BEGIN:VCALENDAR
VERSION:2.0
PRODID:-//Narbil Training - ECPv6.15.20//NONSGML v1.0//EN
CALSCALE:GREGORIAN
METHOD:PUBLISH
X-WR-CALNAME:Narbil Training
X-ORIGINAL-URL:https://www.narbiltraining.edu.au
X-WR-CALDESC:Events for Narbil Training
REFRESH-INTERVAL;VALUE=DURATION:PT1H
X-Robots-Tag:noindex
X-PUBLISHED-TTL:PT1H
BEGIN:VTIMEZONE
TZID:Australia/Brisbane
BEGIN:STANDARD
TZOFFSETFROM:+1000
TZOFFSETTO:+1000
TZNAME:AEST
DTSTART:20250101T000000
END:STANDARD
END:VTIMEZONE
BEGIN:VEVENT
DTSTART;TZID=Australia/Brisbane:20260427T070000
DTEND;TZID=Australia/Brisbane:20260427T150000
DTSTAMP:20260421T041237
CREATED:20251112T022133Z
LAST-MODIFIED:20251112T022133Z
UID:740619-1777273200-1777302000@www.narbiltraining.edu.au
SUMMARY:RIIWHS204E Work safely at heights
DESCRIPTION:The Work at Heights Certificate (RIIWHS204E - Work safely at heights) fulfills the mandatory training requirement under Workplace Health and Safety Legislation for persons intending to carry out work at height; for example stacking shelves\, working on a roof\, unloading a large truck or accessing silos. Falls can also occur at ground level into holes; for example trenches or service pits.
URL:https://www.narbiltraining.edu.au/event/riiwhs204e-work-safely-at-heights-1623/
LOCATION:Narbil\, Narbil\, Australia
CATEGORIES:Workshop
END:VEVENT
BEGIN:VEVENT
DTSTART;TZID=Australia/Brisbane:20260427T070000
DTEND;TZID=Australia/Brisbane:20260427T133000
DTSTAMP:20260421T041238
CREATED:20251112T020928Z
LAST-MODIFIED:20260420T180926Z
UID:740588-1777273200-1777296600@www.narbiltraining.edu.au
SUMMARY:HLTAID009 & UETDRMP018 CPR\, LVR
DESCRIPTION:
URL:https://www.narbiltraining.edu.au/event/hltaid009-uetdrmp018-cpr-lvr-37/
LOCATION:Narbil\, Narbil\, Australia
CATEGORIES:Workshop
END:VEVENT
BEGIN:VEVENT
DTSTART;TZID=Australia/Brisbane:20260423T070000
DTEND;TZID=Australia/Brisbane:20260423T150000
DTSTAMP:20260421T041239
CREATED:20260318T062725Z
LAST-MODIFIED:20260318T062725Z
UID:776725-1776927600-1776956400@www.narbiltraining.edu.au
SUMMARY:RIIWHS204E Work safely at heights
DESCRIPTION:The Work at Heights Certificate (RIIWHS204E - Work safely at heights) fulfills the mandatory training requirement under Workplace Health and Safety Legislation for persons intending to carry out work at height; for example stacking shelves\, working on a roof\, unloading a large truck or accessing silos. Falls can also occur at ground level into holes; for example trenches or service pits.
URL:https://www.narbiltraining.edu.au/event/riiwhs204e-work-safely-at-heights-1443/
LOCATION:Narbil\, Narbil\, Australia
CATEGORIES:Workshop
END:VEVENT
BEGIN:VEVENT
DTSTART;TZID=Australia/Brisbane:20260422T070000
DTEND;TZID=Australia/Brisbane:20260424T150000
DTSTAMP:20260421T041239
CREATED:20251112T011428Z
LAST-MODIFIED:20251112T011428Z
UID:740574-1776841200-1777042800@www.narbiltraining.edu.au
SUMMARY:TLILIC0003 Licence to operate a Forklift truck
DESCRIPTION:The Forklift Truck High Risk Work Licence (TLILIC0003 - Licence to Operate a Forklift Truck) is a mandatory requirement under Workplace Health and Safety Legislation for persons intending to operate a forklift.\n\nA forklift truck is a powered industrial truck equipped with a mast and an elevating load carriage which has a pair of fork arms attached (that can be raised 900 mm or more above the ground) or other load holding attachment.\n\nFor information regarding the Identification requirements to attend the course please follow this link here
URL:https://www.narbiltraining.edu.au/event/tlilic0003-licence-to-operate-a-forklift-truck-2645/
LOCATION:Narbil\, Narbil\, Australia
CATEGORIES:Workshop
END:VEVENT
BEGIN:VEVENT
DTSTART;TZID=Australia/Brisbane:20260422T070000
DTEND;TZID=Australia/Brisbane:20260422T133000
DTSTAMP:20260421T041240
CREATED:20260210T052048Z
LAST-MODIFIED:20260210T052048Z
UID:748846-1776841200-1776864600@www.narbiltraining.edu.au
SUMMARY:MSMWHS216 Operate Breathing Apparatus
DESCRIPTION:Face must be clean shaven to ensure BA seals sufficiently.
URL:https://www.narbiltraining.edu.au/event/msmwhs216-operate-breathing-apparatus/
LOCATION:Narbil\, Narbil\, Australia
CATEGORIES:Workshop
END:VEVENT
BEGIN:VEVENT
DTSTART;TZID=Australia/Brisbane:20260422T070000
DTEND;TZID=Australia/Brisbane:20260422T133000
DTSTAMP:20260421T041241
CREATED:20251112T010557Z
LAST-MODIFIED:20260420T180927Z
UID:740557-1776841200-1776864600@www.narbiltraining.edu.au
SUMMARY:HLTAID009 & UETDRMP018 CPR\, LVR
DESCRIPTION:
URL:https://www.narbiltraining.edu.au/event/hltaid009-uetdrmp018-cpr-lvr-31/
LOCATION:Narbil\, Narbil\, Australia
CATEGORIES:Workshop
END:VEVENT
BEGIN:VEVENT
DTSTART;TZID=Australia/Brisbane:20260421T070000
DTEND;TZID=Australia/Brisbane:20260421T150000
DTSTAMP:20260421T041242
CREATED:20251112T010822Z
LAST-MODIFIED:20260420T171244Z
UID:740567-1776754800-1776783600@www.narbiltraining.edu.au
SUMMARY:Confined Space Package - RIIWHS202E\, MSMWHS217 & MSMPER200
DESCRIPTION:RIIWHS202E Enter and work in confined spaces\n	MSMPER200 Work in accordance with an issued permit\n	MSMWHS217 Gas test atmospheres\n\nThe Confined Space Certificate (RIIWHS202E Enter and Work in Confined Spaces) fulfills the training requirement for persons intending to enter and work in confined spaces.\n\nThe Permitting Certificate (MSMPER200 Work in Accordance with an Issued Permit) provides workers with the required knowledge and skills to meet site specific permit requirements.\n\nThe Gas Testing Certificate (MSMWHS217 Gas Test Atmospheres) aims to ensure workers are competent in the testing of the working atmosphere. This determines if it is safe for the proposed work to proceed. Testing involves the use of electronic test apparatus.\n\nFor information regarding the Identification requirements to attend the course please follow this link here\n\n\n\n 
URL:https://www.narbiltraining.edu.au/event/confined-space-package-riiwhs202e-msmwhs217-msmper200-19002/
LOCATION:Narbil\, Narbil\, Australia
CATEGORIES:Workshop
END:VEVENT
BEGIN:VEVENT
DTSTART;TZID=Australia/Brisbane:20260421T041237
DTEND;TZID=Australia/Brisbane:20260421T041237
DTSTAMP:20260421T041243
CREATED:20250224T233221Z
LAST-MODIFIED:20250224T233221Z
UID:667125-1776744757-1776744757@www.narbiltraining.edu.au
SUMMARY:HSR Refresher
DESCRIPTION:
URL:https://www.narbiltraining.edu.au/event/hsr-refresher-2969/
END:VEVENT
END:VCALENDAR