BEGIN:VCALENDAR
VERSION:2.0
PRODID:-//Narbil Training - ECPv6.15.20//NONSGML v1.0//EN
CALSCALE:GREGORIAN
METHOD:PUBLISH
X-WR-CALNAME:Narbil Training
X-ORIGINAL-URL:https://www.narbiltraining.edu.au
X-WR-CALDESC:Events for Narbil Training
REFRESH-INTERVAL;VALUE=DURATION:PT1H
X-Robots-Tag:noindex
X-PUBLISHED-TTL:PT1H
BEGIN:VTIMEZONE
TZID:Australia/Brisbane
BEGIN:STANDARD
TZOFFSETFROM:+1000
TZOFFSETTO:+1000
TZNAME:AEST
DTSTART:20250101T000000
END:STANDARD
END:VTIMEZONE
BEGIN:VEVENT
DTSTART;TZID=Australia/Brisbane:20260427T070000
DTEND;TZID=Australia/Brisbane:20260429T150000
DTSTAMP:20260424T002803
CREATED:20251112T022117Z
LAST-MODIFIED:20251112T022117Z
UID:740615-1777273200-1777474800@www.narbiltraining.edu.au
SUMMARY:TLILIC0005\, RIIHAN301E Elevated Work Platform Package
DESCRIPTION:This workshop describes the skills and knowledge required to operate an elevating work platform at any height.\n\nThis package includes the following units of competency:\n\nTLILIC0005 - Licence to Operate an Boom-Type Elevating Work Platform (Boom Length 11 meters or more)\n\nRIIHAN301E - Operate Elevating Work Platform\n\nThe EWP - Elevating Work Platform High Risk Work Licence (TLILIC0005 - Licence to operate a boom-type elevating work platform - boom length 11 metres or more) is a mandatory requirement under Workplace Health and Safety Legislation for persons intending to operate an Elevating Work Platform with a boom length of 11 metres or more.\n\nAn elevating work platform uses a telescoping device\, hinged device\, articulated device or any combination of these to raise personnel\, equipment or materials to perform work.\n\n\nENROL NOW
URL:https://www.narbiltraining.edu.au/event/tlilic0005-riihan301e-elevated-work-platform-package-8340/
LOCATION:Narbil\, Narbil\, Australia
CATEGORIES:Workshop
END:VEVENT
BEGIN:VEVENT
DTSTART;TZID=Australia/Brisbane:20260427T070000
DTEND;TZID=Australia/Brisbane:20260427T150000
DTSTAMP:20260424T002804
CREATED:20251112T022133Z
LAST-MODIFIED:20251112T022133Z
UID:740619-1777273200-1777302000@www.narbiltraining.edu.au
SUMMARY:RIIWHS204E Work safely at heights
DESCRIPTION:The Work at Heights Certificate (RIIWHS204E - Work safely at heights) fulfills the mandatory training requirement under Workplace Health and Safety Legislation for persons intending to carry out work at height; for example stacking shelves\, working on a roof\, unloading a large truck or accessing silos. Falls can also occur at ground level into holes; for example trenches or service pits.
URL:https://www.narbiltraining.edu.au/event/riiwhs204e-work-safely-at-heights-1623/
LOCATION:Narbil\, Narbil\, Australia
CATEGORIES:Workshop
END:VEVENT
BEGIN:VEVENT
DTSTART;TZID=Australia/Brisbane:20260427T070000
DTEND;TZID=Australia/Brisbane:20260427T133000
DTSTAMP:20260424T002805
CREATED:20251112T020928Z
LAST-MODIFIED:20260423T141435Z
UID:740588-1777273200-1777296600@www.narbiltraining.edu.au
SUMMARY:HLTAID009 & UETDRMP018 CPR\, LVR
DESCRIPTION:
URL:https://www.narbiltraining.edu.au/event/hltaid009-uetdrmp018-cpr-lvr-37/
LOCATION:Narbil\, Narbil\, Australia
CATEGORIES:Workshop
END:VEVENT
BEGIN:VEVENT
DTSTART;TZID=Australia/Brisbane:20260424T002803
DTEND;TZID=Australia/Brisbane:20260424T002803
DTSTAMP:20260424T002806
CREATED:20250224T233221Z
LAST-MODIFIED:20250224T233221Z
UID:667125-1776990483-1776990483@www.narbiltraining.edu.au
SUMMARY:HSR Refresher
DESCRIPTION:
URL:https://www.narbiltraining.edu.au/event/hsr-refresher-2969/
END:VEVENT
END:VCALENDAR